BEGIN:VCALENDAR
PRODID:-//eluceo/ical//2.0/EN
VERSION:2.0
CALSCALE:GREGORIAN
BEGIN:VEVENT
UID:911f8c5e4e156e9e9a56a450285b728c
DTSTAMP:20260423T130406Z
SUMMARY:Ursus & Nadeschkin PRSPKTVNWCHSL
DESCRIPTION:Ursus & NadeschkinPRSPKTVNWCHSL\n 
URL:https://sarnenlacht.ch/unter-dem-jahr/detail/ursus-nadeschkin-prspktvnw
 chsl
DTSTART:20261202T000000
DTEND:20261202T235959
LOCATION:Aula Cher
END:VEVENT
BEGIN:VTIMEZONE
TZID:Europe/Zurich
BEGIN:STANDARD
DTSTART:20261202T000000
TZNAME:CET
TZOFFSETTO:+0100
TZOFFSETFROM:+0100
END:STANDARD
END:VTIMEZONE
END:VCALENDAR
