BEGIN:VCALENDAR
PRODID:-//eluceo/ical//2.0/EN
VERSION:2.0
CALSCALE:GREGORIAN
BEGIN:VEVENT
UID:2f4c67df6a7248401f9cf5f1f783beeb
DTSTAMP:20260423T125044Z
SUMMARY:Ursus & Nadeschkin PRSPKTVNWCHSL
DESCRIPTION:Ursus & NadeschkinPRSPKTVNWCHSL\n 
URL:https://sarnenlacht.ch/unter-dem-jahr/detail/ursus-nadeschkin-prspktvnw
 chsl-2
DTSTART:20261203T000000
DTEND:20261203T235959
LOCATION:Aula Cher
END:VEVENT
BEGIN:VTIMEZONE
TZID:Europe/Zurich
BEGIN:STANDARD
DTSTART:20261203T000000
TZNAME:CET
TZOFFSETTO:+0100
TZOFFSETFROM:+0100
END:STANDARD
END:VTIMEZONE
END:VCALENDAR
